BEGIN:VCALENDAR
VERSION:2.0
PRODID:-//Tukios.com/
BEGIN:VEVENT
UID:f4f4ffc8-cf64-4233-863b-2675e45b60f4@www.asimplecremationwnc.com
DTSTAMP:20260423T233653Z
DTSTART:20260425T170000Z
DTEND:20260425T180000Z
SUMMARY:Memorial Service
DESCRIPTION:
URL:https://www.asimplecremationwnc.com/obituaries/danielle-ciaramitaro
LOCATION:Hendersonville Presbyterian Church 699 North Grove Street  
	Hendersonville NC 28792
GEO:35.319542;-82.4588397
END:VEVENT
END:VCALENDAR