BEGIN:VCALENDAR
VERSION:2.0
PRODID:-//Tukios.com/
BEGIN:VEVENT
UID:963a062d-dfe3-49e2-9fb9-7d60cb001cbd@www.asimplecremationwnc.com
DTSTAMP:20260421T163313Z
DTSTART:20260424T170000Z
DTEND:20260424T180000Z
SUMMARY:Memorial Service
DESCRIPTION:Reception to Follow
URL:https://www.asimplecremationwnc.com/obituaries/francis-slaughter
LOCATION:Central United Methodist Church of Asheville 27 Church St  
	Asheville NC 28801
GEO:35.5931247;-82.5535453
END:VEVENT
END:VCALENDAR